BEGIN:VCALENDAR
VERSION:2.0
PRODID:-//strokeEd - ECPv4.7.2//NONSGML v1.0//EN
CALSCALE:GREGORIAN
METHOD:PUBLISH
X-WR-CALNAME:strokeEd
X-ORIGINAL-URL:http://strokeed.draftsite.net.au
X-WR-CALDESC:Events for strokeEd
BEGIN:VEVENT
DTSTART;VALUE=DATE:20190930
DTEND;VALUE=DATE:20191002
DTSTAMP:20210228T140003
CREATED:20190207T090655Z
LAST-MODIFIED:20190820T234053Z
UID:1400-1569801600-1569974399@strokeed.draftsite.net.au
SUMMARY:Clínica Los Coihues\, Santiago (CHILE)
DESCRIPTION:Presenter: Dr Simone Dorsch \nOrganiser Carolina Vizcarra; cvizcarra@clinicaloscoihues.cl \nCost: 300\,000 Chilean Pesos \n
URL:http://strokeed.draftsite.net.au/workshop/clinica-los-coihues/
LOCATION:Clínica Los Coihues\, Av. Laguna Sur 6561\, Estación Central\, Región Metropolitana\, Santiago\, Chile
CATEGORIES:Balance
ORGANIZER;CN="Karin%20Villaseca":MAILTO:kvillaseca@clinicaloscoihues.cl
END:VEVENT
END:VCALENDAR